BEGIN:VCALENDAR
VERSION:2.0
PRODID:icalendar-ruby
CALSCALE:GREGORIAN
METHOD:PUBLISH
BEGIN:VEVENT
DTSTAMP:20260421T005904Z
UID:12-606633@libertychapelbaptistchurch.org
DTSTART:20231220T150000Z
DTEND:20231220T160000Z
CLASS:PUBLIC
CREATED:20260420T195028
DESCRIPTION:
LAST-MODIFIED:20260420T195028
LOCATION:4559 Liberty Chapel Road\, Appomattox\, VA
SUMMARY:Ladies Bible Study
URL;VALUE=URI:https://www.libertychapelbaptistchurch.org/events/ladies-bibl
 e-study/2023-12-20
ATTACH;FILENAME=Web photos (2).jpg;FMTTYPE=image/jpeg:https://dq5pwpg1q8ru0
 .cloudfront.net/2025/04/16/16/17/43/bd08570c-cf9b-4ca8-a1eb-70e63411a61a/W
 eb%20photos%20(2).jpg
END:VEVENT
END:VCALENDAR
